BEGIN:VCALENDAR
VERSION:2.0
PRODID:SchoolNow
CALSCALE:GREGORIAN
BEGIN:VEVENT
UID:00b95c9c-4c14-11f0-b4cb-0218c6f27b95
DTSTAMP:20251216T154618Z
SUMMARY:No School
URL;VALUE=URI:https://www.manteno5.org/calendar/8322760/no-school
DTSTART:20260406T125500Z
DTEND:20260406T200500Z
END:VEVENT
END:VCALENDAR
