BEGIN:VCALENDAR
VERSION:2.0
PRODID:SchoolNow
CALSCALE:GREGORIAN
BEGIN:VEVENT
UID:00103086-4c14-11f0-8871-0a58a9feac02
DTSTAMP:20251216T154617Z
SUMMARY:No School - Memorial Day
URL;VALUE=URI:https://www.manteno5.org/es/calendar/8322743/no-school-memori
 al-day
DTSTART:20260525T125500Z
DTEND:20260525T200500Z
END:VEVENT
END:VCALENDAR
