BEGIN:VCALENDAR
VERSION:2.0
PRODID:SchoolNow
CALSCALE:GREGORIAN
BEGIN:VEVENT
UID:0006dc7a-4c14-11f0-b7fb-0a58a9feac02
DTSTAMP:20260422T092052Z
SUMMARY:No School - Winter Break
URL;VALUE=URI:https://www.manteno5.org/hs/calendar/8322714/no-school-winter
 -break
DTSTART:20251222T060000Z
DTEND:20260103T060000Z
END:VEVENT
END:VCALENDAR
