BEGIN:VCALENDAR
VERSION:2.0
PRODID:SchoolNow
CALSCALE:GREGORIAN
BEGIN:VEVENT
UID:0006dd6a-4c14-11f0-9f08-0a58a9feac02
DTSTAMP:20260422T092052Z
SUMMARY:No School - Institute Day
URL;VALUE=URI:https://www.manteno5.org/hs/calendar/8322715/no-school-instit
 ute-day
DTSTART:20260105T135500Z
DTEND:20260105T210500Z
END:VEVENT
END:VCALENDAR
