BEGIN:VCALENDAR
VERSION:2.0
PRODID:SchoolNow
CALSCALE:GREGORIAN
BEGIN:VEVENT
UID:0006de8c-4c14-11f0-a264-0a58a9feac02
DTSTAMP:20260422T092052Z
SUMMARY:No School
URL;VALUE=URI:https://www.manteno5.org/hs/calendar/8322716/no-school
DTSTART:20260119T135500Z
DTEND:20260119T210500Z
END:VEVENT
END:VCALENDAR
