BEGIN:VCALENDAR
VERSION:2.0
PRODID:SchoolNow
CALSCALE:GREGORIAN
BEGIN:VEVENT
UID:0006df7c-4c14-11f0-be6c-0a58a9feac02
DTSTAMP:20260422T092052Z
SUMMARY:No School
URL;VALUE=URI:https://www.manteno5.org/hs/calendar/8322717/no-school
DTSTART:20260209T135500Z
DTEND:20260209T210500Z
END:VEVENT
END:VCALENDAR
