BEGIN:VCALENDAR
VERSION:2.0
PRODID:SchoolNow
CALSCALE:GREGORIAN
BEGIN:VEVENT
UID:0006e062-4c14-11f0-b359-0a58a9feac02
DTSTAMP:20260422T092052Z
SUMMARY:Early Dismissal @ 11:15
URL;VALUE=URI:https://www.manteno5.org/hs/calendar/8322718/early-dismissal-
 11-15
DTSTART:20260213T171500Z
DTEND:20260213T181500Z
END:VEVENT
END:VCALENDAR
