BEGIN:VCALENDAR
VERSION:2.0
PRODID:SchoolNow
CALSCALE:GREGORIAN
BEGIN:VEVENT
UID:22fd5b6a-1756-11f1-8b0e-0e01cb8edc3f
DTSTAMP:20260422T031557Z
SUMMARY:Festival of Bands Concert (Grades 5-12)
LOCATION:Manteno High School\, 443 N Maple St\, Manteno\, IL 60950\, USA
URL;VALUE=URI:https://www.manteno5.org/hs/calendar/8888291/festival-of-band
 s-concert-grades-5-12
DTSTART:20260306T010000Z
DTEND:20260306T020000Z
END:VEVENT
END:VCALENDAR
