BEGIN:VCALENDAR
VERSION:2.0
PRODID:SchoolNow
CALSCALE:GREGORIAN
BEGIN:VEVENT
UID:22fd601a-1756-11f1-9892-0e01cb8edc3f
DTSTAMP:20260422T031557Z
SUMMARY:MHS Prom
URL;VALUE=URI:https://www.manteno5.org/hs/calendar/8888293/mhs-prom
DTSTART:20260501T230000Z
DTEND:20260502T030000Z
END:VEVENT
END:VCALENDAR
