BEGIN:VCALENDAR
VERSION:2.0
PRODID:SchoolNow
CALSCALE:GREGORIAN
BEGIN:VEVENT
UID:22fd613c-1756-11f1-9bce-0e01cb8edc3f
DTSTAMP:20260422T031557Z
SUMMARY:Senior Awards Night
URL;VALUE=URI:https://www.manteno5.org/hs/calendar/8888294/senior-awards-ni
 ght
DTSTART:20260514T000000Z
DTEND:20260514T010000Z
END:VEVENT
END:VCALENDAR
