BEGIN:VCALENDAR
VERSION:2.0
PRODID:SchoolNow
CALSCALE:GREGORIAN
BEGIN:VEVENT
UID:22fd6254-1756-11f1-9b85-0e01cb8edc3f
DTSTAMP:20260422T031557Z
SUMMARY:MHS Graduation
URL;VALUE=URI:https://www.manteno5.org/hs/calendar/8888295/mhs-graduation
DTSTART:20260517T190000Z
DTEND:20260517T200000Z
END:VEVENT
END:VCALENDAR
