BEGIN:VCALENDAR
VERSION:2.0
PRODID:SchoolNow
CALSCALE:GREGORIAN
BEGIN:VEVENT
UID:22fd634e-1756-11f1-adba-0e01cb8edc3f
DTSTAMP:20260422T031557Z
SUMMARY:Senior Trip/Senior Last Day
URL;VALUE=URI:https://www.manteno5.org/hs/calendar/8888296/senior-trip-seni
 or-last-day
DTSTART:20260508T131500Z
DTEND:20260508T200500Z
END:VEVENT
END:VCALENDAR
