BEGIN:VCALENDAR
VERSION:2.0
PRODID:SchoolNow
CALSCALE:GREGORIAN
BEGIN:VEVENT
UID:22fd6466-1756-11f1-a51d-0e01cb8edc3f
DTSTAMP:20260422T031557Z
SUMMARY:Choral Collage (Grades 6-12)
LOCATION:Manteno Middle School\, 250 N Poplar St\, Manteno\, IL 60950\, USA
URL;VALUE=URI:https://www.manteno5.org/hs/calendar/8888297/choral-collage-g
 rades-6-12
DTSTART:20260312T000000Z
DTEND:20260312T010000Z
END:VEVENT
END:VCALENDAR
