BEGIN:VCALENDAR
VERSION:2.0
PRODID:SchoolNow
CALSCALE:GREGORIAN
BEGIN:VEVENT
UID:22d91476-1756-11f1-a18b-029e9cd6e58f
DTSTAMP:20260422T152551Z
SUMMARY:8th Grade Promotion
URL;VALUE=URI:https://www.manteno5.org/ms/calendar/8888288/8th-grade-promot
 ion
DTSTART:20260521T233000Z
DTEND:20260522T003000Z
END:VEVENT
END:VCALENDAR
